BEGIN:VCALENDAR
VERSION:2.0
PRODID:-//ChamberMaster//Event Calendar 2.0//EN
METHOD:PUBLISH
X-PUBLISHED-TTL:P3D
REFRESH-INTERVAL:P3D
CALSCALE:GREGORIAN
BEGIN:VEVENT
DTSTART:20190321T180000Z
DTEND:20190321T193000Z
X-MICROSOFT-CDO-ALLDAYEVENT:FALSE
SUMMARY:2019 Legislative Recap (03.21.19)
DESCRIPTION:Please join us as representatives from AGC's Legislative Team present a recap of legislative issues\, bills\, and trends that either passed the 2019 Utah State Legislative Session or has gone back to next year's drawing board.\n\n\n\nGet insights on which laws will impact the way you conduct business\, and which legislation failed but will potentially have an impact in the future.\n\n\n\nThis is an event you won't want to miss.
X-ALT-DESC;FMTTYPE=text/html:Please join us as representatives from AGC&rsquo\;s Legislative Team present a recap of legislative issues\, bills\, and trends that either passed the 2019 Utah State Legislative Session or has gone back to next year&rsquo\;s drawing board.<br />\n<br />\nGet insights on which laws will impact the way you conduct business\, and which legislation failed but will potentially have an impact in the future.<br />\n<br />\nThis is an event you won&rsquo\;t want to miss.
LOCATION:AGC Headquarters 2207 South 1070 West Salt Lake City UT 84119
UID:e.3104.13889
SEQUENCE:3
DTSTAMP:20260420T084130Z
URL:https://members.agc-utah.org/events/details/2019-legislative-recap-03-21-19-13889
END:VEVENT

END:VCALENDAR
