BEGIN:VCALENDAR
VERSION:2.0
PRODID:-//ChamberMaster//Event Calendar 2.0//EN
METHOD:PUBLISH
X-PUBLISHED-TTL:P3D
REFRESH-INTERVAL:P3D
CALSCALE:GREGORIAN
BEGIN:VEVENT
DTSTART:20191003T134500Z
DTEND:20191003T213000Z
X-MICROSOFT-CDO-ALLDAYEVENT:FALSE
SUMMARY:2019 Safety Conference - St. George (10.3.19)
DESCRIPTION:Click HERE to download Conference information
X-ALT-DESC;FMTTYPE=text/html:<br />\n<strong>Click <a href="https://chambermaster.blob.core.windows.net/userfiles/UserFiles/chambers/3104/File/2019_AGCSoUT_SafetyConf_Brochure.pdf">HERE</a> to download Conference information</strong>
LOCATION:
UID:e.3104.13942
SEQUENCE:3
DTSTAMP:20260420T192846Z
URL:https://members.agc-utah.org/events/details/2019-safety-conference-st-george-10-3-19-13942
END:VEVENT

END:VCALENDAR
