BEGIN:VCALENDAR
VERSION:2.0
PRODID:-//ChamberMaster//Event Calendar 2.0//EN
METHOD:PUBLISH
X-PUBLISHED-TTL:P3D
REFRESH-INTERVAL:P3D
CALSCALE:GREGORIAN
BEGIN:VEVENT
DTSTART:20201209T183000Z
DTEND:20201209T203000Z
X-MICROSOFT-CDO-ALLDAYEVENT:FALSE
SUMMARY:2020 Construction Industry Trends: 401(K) Benefits Workshop (12.9.20)
DESCRIPTION:There are many reasons to have robust 401k and benefit plans. They can be excellent tools for recruiting\, retention and showing employee appreciation. Our three goals for this workshop include understanding:\n\n	General 401k and benefits trends.\n	Construction industry trends in 401k and benefits.\n	Plan design to keep your plan competitive.\n\nParticipants will receive a 401k benchmarking report for the construction industry. \n\n \n\nPresenter: Michael Sayre\, CUI Wealth Management
X-ALT-DESC;FMTTYPE=text/html:<span style="border:none windowtext 1.0pt\;padding:0in\;"><span style="color:#323130\;"><span style="font-family:tahoma\,sans-serif\;"><span style="font-size:10.0pt\;">There are many reasons to have robust 401k and benefit plans. They can be excellent tools for recruiting\, retention and showing employee appreciation. Our three goals for this workshop include understanding:</span></span></span></span>\n<ul>\n	<li style="background:white\;"><span style="border:none windowtext 1.0pt\;padding:0in\;"><span style="color:#323130\;"><span style="font-family:tahoma\,sans-serif\;"><span style="font-size:10.0pt\;">General 401k and benefits trends.</span></span></span></span></li>\n	<li style="background:white\;"><span style="border:none windowtext 1.0pt\;padding:0in\;"><span style="color:#323130\;"><span style="font-family:tahoma\,sans-serif\;"><span style="font-size:10.0pt\;">Construction industry trends in 401k and benefits.</span></span></span></span></li>\n	<li style="background:white\;"><span style="border:none windowtext 1.0pt\;padding:0in\;"><span style="color:#323130\;"><span style="font-family:tahoma\,sans-serif\;"><span style="font-size:10.0pt\;">Plan design to keep your plan competitive.</span></span></span></span></li>\n</ul>\n<span style="border:none windowtext 1.0pt\;padding:0in\;"><span style="color:#323130\;"><span style="font-family:tahoma\,sans-serif\;"><span style="font-size:10.0pt\;">Participants will receive a 401k benchmarking report for the construction industry. </span></span></span></span><br />\n&nbsp\;<br />\n<strong><span style="border:none windowtext 1.0pt\;padding:0in\;"><span style="color:#323130\;"><span style="font-family:tahoma\,sans-serif\;"><span style="font-size:10.0pt\;">Presenter: Michael Sayre\, CUI Wealth Management</span></span></span></span></strong>
LOCATION:ZOOM Webinar *Login link will be sent two days prior to the webinar
UID:e.3104.14159
SEQUENCE:3
DTSTAMP:20260420T224414Z
URL:https://members.agc-utah.org/events/details/2020-construction-industry-trends-401-k-benefits-workshop-12-9-20-14159
END:VEVENT

END:VCALENDAR
