BEGIN:VCALENDAR
VERSION:2.0
PRODID:-//ChamberMaster//Event Calendar 2.0//EN
METHOD:PUBLISH
X-PUBLISHED-TTL:P3D
REFRESH-INTERVAL:P3D
CALSCALE:GREGORIAN
BEGIN:VEVENT
DTSTART:20191119T190000Z
DTEND:20191119T210000Z
X-MICROSOFT-CDO-ALLDAYEVENT:FALSE
SUMMARY:2020 Economic Forecast & Membership Luncheon (11.19.19)
DESCRIPTION:
X-ALT-DESC;FMTTYPE=text/html:
LOCATION:Little America Hotel 500 So Main Street Salt Lake City UT 84101
UID:e.3104.13957
SEQUENCE:3
DTSTAMP:20260420T223410Z
URL:https://members.agc-utah.org/events/details/2020-economic-forecast-membership-luncheon-11-19-19-13957
END:VEVENT

END:VCALENDAR
