BEGIN:VCALENDAR
VERSION:2.0
PRODID:-//ChamberMaster//Event Calendar 2.0//EN
METHOD:PUBLISH
X-PUBLISHED-TTL:P3D
REFRESH-INTERVAL:P3D
CALSCALE:GREGORIAN
BEGIN:VEVENT
DTSTART:20200326T130000Z
DTEND:20200326T200000Z
X-MICROSOFT-CDO-ALLDAYEVENT:FALSE
SUMMARY:2020 Safety Conference & MSHA Spring Thaw
DESCRIPTION:Event has been Postponed
X-ALT-DESC;FMTTYPE=text/html:<div style="color: rgb(64\, 63\, 66)\; font-family: Arial\, Verdana\, Helvetica\, sans-serif\; white-space: pre-wrap\;"><br />\n<span style="font-size:20px\;"><span style="font-size:22px\;">Event has been Postponed</span></span></div>\n
LOCATION:Little America Hotel 500 So Main Street. Salt Lake City UT 84101
UID:e.3104.14039
SEQUENCE:3
DTSTAMP:20260421T051253Z
URL:https://members.agc-utah.org/events/details/2020-safety-conference-msha-spring-thaw-14039
END:VEVENT

END:VCALENDAR
