BEGIN:VCALENDAR
VERSION:2.0
PRODID:-//ChamberMaster//Event Calendar 2.0//EN
METHOD:PUBLISH
X-PUBLISHED-TTL:P3D
REFRESH-INTERVAL:P3D
CALSCALE:GREGORIAN
BEGIN:VEVENT
DTSTART:20201111T190000Z
DTEND:20201111T210000Z
X-MICROSOFT-CDO-ALLDAYEVENT:FALSE
SUMMARY:2021 Economic Forecast & Membership Luncheon (11.11.20)
DESCRIPTION:
X-ALT-DESC;FMTTYPE=text/html:
LOCATION:Grand America Hotel 555 So Main Street Salt Lake City UT 84101
UID:e.3104.14152
SEQUENCE:3
DTSTAMP:20260420T224413Z
URL:https://members.agc-utah.org/events/details/2021-economic-forecast-membership-luncheon-11-11-20-14152
END:VEVENT

END:VCALENDAR
