BEGIN:VCALENDAR
VERSION:2.0
PRODID:-//ChamberMaster//Event Calendar 2.0//EN
METHOD:PUBLISH
X-PUBLISHED-TTL:P3D
REFRESH-INTERVAL:P3D
CALSCALE:GREGORIAN
BEGIN:VEVENT
DTSTART:20210312T153000Z
DTEND:20210312T170000Z
X-MICROSOFT-CDO-ALLDAYEVENT:FALSE
SUMMARY:2021 Legislative Recap (03.12.21)
DESCRIPTION:Please join us as representatives from AGC's Legislative Team present a recap of legislative issues\, bills\, and trends that either passed the 2021 Utah State Legislative Session or has gone back to next year's drawing board.\n\n\n\nGet insights on which laws will impact the way you conduct business\, and which legislation failed but will potentially have an impact in the future.\n\n\n\nThis is an event you won't want to miss.
X-ALT-DESC;FMTTYPE=text/html:Please join us as representatives from AGC&rsquo\;s Legislative Team present a recap of legislative issues\, bills\, and trends that either passed the 2021 Utah State Legislative Session or has gone back to next year&rsquo\;s drawing board.<br />\n<br />\nGet insights on which laws will impact the way you conduct business\, and which legislation failed but will potentially have an impact in the future.<br />\n<br />\nThis is an event you won&rsquo\;t want to miss.
LOCATION:AGC Headquarters 2207 South 1070 West Salt Lake City UT 84119
UID:e.3104.14227
SEQUENCE:3
DTSTAMP:20260420T162636Z
URL:https://members.agc-utah.org/events/details/2021-legislative-recap-03-12-21-14227
END:VEVENT

END:VCALENDAR
