BEGIN:VCALENDAR
VERSION:2.0
PRODID:-//ChamberMaster//Event Calendar 2.0//EN
METHOD:PUBLISH
X-PUBLISHED-TTL:P3D
REFRESH-INTERVAL:P3D
CALSCALE:GREGORIAN
BEGIN:VEVENT
DTSTART:20210322T180000Z
DTEND:20210322T193000Z
X-MICROSOFT-CDO-ALLDAYEVENT:FALSE
SUMMARY:2021 Legislative Recap - St. George (03.22.21)
DESCRIPTION:Please join us as representatives from AGC's Legislative Team present a recap of legislative issues\, bills\, and trends that either passed the 2021 Utah Legislative Session or has gone back to next year's drawing board. \n\n\n\nGet insights on which laws will impact the way you conduct business\, and which legislation failed but will potentially have an impact in the future.
X-ALT-DESC;FMTTYPE=text/html:Please join us as representatives from AGC&#39\;s Legislative Team present a recap of legislative issues\, bills\, and trends that either passed the 2021 Utah Legislative Session or has gone back to next year&#39\;s drawing board.&nbsp\;<br />\n<br />\nGet insights on which laws will impact the way you conduct business\, and which legislation failed but will potentially have an impact in the future.&nbsp\;<br />\n&nbsp\;
LOCATION:Southern Utah AGC 230 North 1680 East Suite B-1 St. George UT 84790
UID:e.3104.14226
SEQUENCE:3
DTSTAMP:20260420T163916Z
URL:https://members.agc-utah.org/events/details/2021-legislative-recap-st-george-03-22-21-14226
END:VEVENT

END:VCALENDAR
