BEGIN:VCALENDAR
VERSION:2.0
PRODID:-//ChamberMaster//Event Calendar 2.0//EN
METHOD:PUBLISH
X-PUBLISHED-TTL:P3D
REFRESH-INTERVAL:P3D
CALSCALE:GREGORIAN
BEGIN:VEVENT
DTSTART:20250521T133000Z
DTEND:20250521T153000Z
X-MICROSOFT-CDO-ALLDAYEVENT:FALSE
SUMMARY:2025 Safety Awards Breakfast (05.21.25)
DESCRIPTION:Join us for the Annual AGC of Utah Safety Awards Breakfast as we show appreciation for the hard work done by construction companies in our state to keep people safe. We will be celebrating companies for their safety records and safety practices.
X-ALT-DESC;FMTTYPE=text/html:<span century="" style="font-family: ">Join us for the Annual AGC of Utah Safety Awards Breakfast as we show appreciation for the hard work done by construction companies in our state to keep people safe. We will be celebrating companies for their safety records and safety practices.</span><br />\n&nbsp\;
LOCATION:Hank's Garage 401 North 400 West North Salt Lake UT 84054 (Behind Menlove Auto\, Next to Archive Recordings)
UID:e.3104.15107
SEQUENCE:3
DTSTAMP:20260420T103041Z
URL:https://members.agc-utah.org/events/details/2025-safety-awards-breakfast-05-21-25-15107
END:VEVENT

END:VCALENDAR
