BEGIN:VCALENDAR
VERSION:2.0
PRODID:-//ChamberMaster//Event Calendar 2.0//EN
METHOD:PUBLISH
X-PUBLISHED-TTL:P3D
REFRESH-INTERVAL:P3D
CALSCALE:GREGORIAN
BEGIN:VEVENT
DTSTART:20210610T180000Z
DTEND:20210610T190000Z
X-MICROSOFT-CDO-ALLDAYEVENT:FALSE
SUMMARY:3 Step Safety Program L&L - St. George (06.10.21)
DESCRIPTION:A Simple 3-step plan to keep your employees and customers safe.  You'll avoid the fluff and scare tactics of most safety training and get to the heart of what works in the real world with proven prevention principles.  Best of all\, you'll get insider tricks to get your insurance company to pay for your program.  \n\n\n\nPresenters:  Brett Thompson and Josh Maxwell with Beehive Insurance
X-ALT-DESC;FMTTYPE=text/html:A Simple 3-step plan to keep your employees and customers safe.&nbsp\; You&#39\;ll avoid the fluff and scare tactics of most safety training and get to the heart of what works in the real world with proven prevention principles.&nbsp\; Best of all\, you&#39\;ll get insider tricks to get your insurance company to pay for your program.&nbsp\;&nbsp\;<br />\n<br />\n<strong>Presenters:&nbsp\; Brett Thompson and Josh Maxwell with Beehive Insurance</strong>
LOCATION:AGC Southern Utah 230 North 1680 East\, B-1 St. George UT 84790
UID:e.3104.14280
SEQUENCE:3
DTSTAMP:20260420T114954Z
URL:https://members.agc-utah.org/events/details/3-step-safety-program-l-l-st-george-06-10-21-14280
END:VEVENT

END:VCALENDAR
