BEGIN:VCALENDAR
VERSION:2.0
PRODID:-//ChamberMaster//Event Calendar 2.0//EN
METHOD:PUBLISH
X-PUBLISHED-TTL:P3D
REFRESH-INTERVAL:P3D
CALSCALE:GREGORIAN
BEGIN:VEVENT
DTSTART:20200521T190000Z
DTEND:20200521T200000Z
X-MICROSOFT-CDO-ALLDAYEVENT:FALSE
SUMMARY:5 Strategies for Earthquake Preparedness on Construction Sites (05.21.20)
DESCRIPTION:Construction Projects present a number of unique factors to consider in the event of a natural disaster like an Earthquake. Preparation for disasters is paramount\, without sufficient disaster preparedness\, a catastrophic event can severely impact not just your business but also the safety of your employees.  Please join us as we discuss 5 strategies for earthquake preparedness specific to the construction industry.\n\n\n\nPresenter - Chelly Heninger\, Awareness is Key Safety Solutions
X-ALT-DESC;FMTTYPE=text/html:<span style="font-family:tahoma\,sans-serif\;">Construction Projects present a number of unique factors to consider in the event of a natural&nbsp\;disaster like an Earthquake. Preparation for disasters is paramount\, without sufficient disaster preparedness\, a catastrophic event can severely impact not just your business but also the safety of your employees.&nbsp\; Please join us as we discuss 5 strategies for earthquake preparedness specific to the construction industry.<br />\n<br />\nPresenter - Chelly Heninger\, Awareness is Key Safety Solutions</span>
LOCATION:Live Webinar *Meeting login will be sent the day before course - please enter accurate email address for each individual registered.
UID:e.3104.14061
SEQUENCE:3
DTSTAMP:20260421T070857Z
URL:https://members.agc-utah.org/events/details/5-strategies-for-earthquake-preparedness-on-construction-sites-05-21-20-14061
END:VEVENT

END:VCALENDAR
