BEGIN:VCALENDAR
VERSION:2.0
PRODID:-//ChamberMaster//Event Calendar 2.0//EN
METHOD:PUBLISH
X-PUBLISHED-TTL:P3D
REFRESH-INTERVAL:P3D
CALSCALE:GREGORIAN
BEGIN:VEVENT
DTSTART:20210623T173000Z
DTEND:20210623T190000Z
X-MICROSOFT-CDO-ALLDAYEVENT:FALSE
SUMMARY:Accelerate Skill Set Development Through Microlearning L&L (06.23.21)
DESCRIPTION:Frantz will discuss the science behind utilizing microlearning and a consistent cadence of training to increase engagement and retention.  This methodology supports a continuous learning culture and allows people to develop specific skills needed to perform tasks to the best of their abilities. \n\n\n\nPresenter: Frantz Belot\, PhD (President of Tyfoom)
X-ALT-DESC;FMTTYPE=text/html:Frantz will discuss the science behind utilizing microlearning and a consistent cadence of training to increase engagement and retention.&nbsp\; This methodology supports a continuous learning culture and allows people to develop specific skills needed to perform tasks to the best of their abilities.&nbsp\;<br />\n<br />\nPresenter: Frantz Belot\, PhD (President of Tyfoom)
LOCATION:AGC Headquarters 2207 South 1070 West Salt Lake City UT 84119 *Please let us know if you'd like to attend virtually
UID:e.3104.14292
SEQUENCE:3
DTSTAMP:20260420T113949Z
URL:https://members.agc-utah.org/events/details/accelerate-skill-set-development-through-microlearning-l-l-06-23-21-14292
END:VEVENT

END:VCALENDAR
