BEGIN:VCALENDAR
VERSION:2.0
PRODID:-//ChamberMaster//Event Calendar 2.0//EN
METHOD:PUBLISH
X-PUBLISHED-TTL:P3D
REFRESH-INTERVAL:P3D
CALSCALE:GREGORIAN
BEGIN:VEVENT
DTSTART:20201007T160000Z
DTEND:20201007T170000Z
X-MICROSOFT-CDO-ALLDAYEVENT:FALSE
SUMMARY:AGC Member-Only Healthcare Program Webinar
DESCRIPTION:Register Now\n\n\n\nJoin us to learn about how our AGC association plan operates and how it may be able to provide you with lower rates and superior benefits. Already insured with SelectHealth? Come anyway! Our program is different than the standard small groups offerings you may have now. With renewals just around the corner\, join us as we share how your association health plan can work for you.
X-ALT-DESC;FMTTYPE=text/html:<br />\n<span style="font-size:20px\;"><span style="font-family:tahoma\;"><strong><a href="https://us02web.zoom.us/webinar/register/WN_l4W1WbihQz6SiYCficrI7g">Register Now</a></strong></span></span><br />\n<br />\n<span style="color: rgb(35\, 35\, 51)\; font-family: Lato\, Helvetica\, Arial\; font-size: 14px\;">Join us to learn about how our AGC association plan operates and how it may be able to provide you with lower rates and superior benefits. Already insured with SelectHealth? Come anyway! Our program is different than the standard small groups offerings you may have now. With renewals just around the corner\, join us as we share how your association health plan can work for you.</span>
LOCATION:ZOOM
UID:e.3104.14142
SEQUENCE:3
DTSTAMP:20260421T022155Z
URL:https://members.agc-utah.org/events/details/agc-member-only-healthcare-program-webinar-14142
END:VEVENT

END:VCALENDAR
