BEGIN:VCALENDAR
VERSION:2.0
PRODID:-//ChamberMaster//Event Calendar 2.0//EN
METHOD:PUBLISH
X-PUBLISHED-TTL:P3D
REFRESH-INTERVAL:P3D
CALSCALE:GREGORIAN
BEGIN:VEVENT
DTSTART;VALUE=DATE:20200731
DTEND;VALUE=DATE:20200801
TRANSP:TRANSPARENT
X-MICROSOFT-CDO-ALLDAYEVENT:TRUE
SUMMARY:Annual Motorcycle Ride (07.31.20)
DESCRIPTION:Download Registration Form\n\n\n\nDownload Sponsorship Form
X-ALT-DESC;FMTTYPE=text/html:<a href="https://chambermaster.blob.core.windows.net/userfiles/UserFiles/chambers/3104/File/2020IndustryRideRegistrationForm.pdf"><span style="font-size:16px\;"><strong><span style="color:#FFFFFF\;"><span style="background-color:#B22222\;">Download Registration Form</span></span></strong></span></a><br />\n<br />\n<a href="https://chambermaster.blob.core.windows.net/userfiles/UserFiles/chambers/3104/File/2020MotorcycleRideSponsorshipForm.pdf"><span style="font-size:16px\;"><strong><span style="color:#FFFFFF\;"><span style="background-color:#DAA520\;">Download Sponsorship Form</span></span></strong></span></a>
LOCATION:Day Ride ONLY to Huntsville UT Meet at AGC Headquarters 2207 South 1070 West Salt Lake City UT 84119
UID:e.3104.14036
SEQUENCE:3
DTSTAMP:20260421T054605Z
URL:https://members.agc-utah.org/events/details/annual-motorcycle-ride-07-31-20-14036
END:VEVENT

END:VCALENDAR
