BEGIN:VCALENDAR
VERSION:2.0
PRODID:-//ChamberMaster//Event Calendar 2.0//EN
METHOD:PUBLISH
X-PUBLISHED-TTL:P3D
REFRESH-INTERVAL:P3D
CALSCALE:GREGORIAN
BEGIN:VEVENT
DTSTART;VALUE=DATE:20190809
DTEND;VALUE=DATE:20190811
TRANSP:TRANSPARENT
X-MICROSOFT-CDO-ALLDAYEVENT:TRUE
SUMMARY:Annual Motorcycle Ride (August 2019)
DESCRIPTION:DOWNLOAD REGISTRATION FORM
X-ALT-DESC;FMTTYPE=text/html:<br />\n<span style="font-size:18px\;"><a href="https://chambermaster.blob.core.windows.net/userfiles/UserFiles/chambers/3104/File/2019IndustryRideRegistrationForm.pdf"><strong><span style="color:#FFFFFF\;"><span style="background-color:#FF0000\;">DOWNLOAD REGISTRATION FORM</span></span></strong></a></span>
LOCATION:
UID:e.3104.13882
SEQUENCE:3
DTSTAMP:20260420T173942Z
URL:https://members.agc-utah.org/events/details/annual-motorcycle-ride-august-2019-13882
END:VEVENT

END:VCALENDAR
