BEGIN:VCALENDAR
VERSION:2.0
PRODID:-//ChamberMaster//Event Calendar 2.0//EN
METHOD:PUBLISH
X-PUBLISHED-TTL:P3D
REFRESH-INTERVAL:P3D
CALSCALE:GREGORIAN
BEGIN:VEVENT
DTSTART:20210713T173000Z
DTEND:20210713T190000Z
X-MICROSOFT-CDO-ALLDAYEVENT:FALSE
SUMMARY:Are You on Track? 2021 Wage & Benefit Survey Results (07.13.21)
DESCRIPTION:The results are in!\n\n\n\nIn April - May\, 2021 AGC of Utah and CLA jointly launched the 2021 Wage & Benefits Survey to determine the current level of our industry's employment packages.  \n\n\n\nOur presenters will discuss the results and how the data may impact your company's compensation decisions.  Presenters will also identify prevailing business trends in our industry.  \n\n\n\nPresenters:  Byron Destigter - CLA & Joey Gilbert - AGC of Utah
X-ALT-DESC;FMTTYPE=text/html:<br />\nThe results are in!<br />\n<br />\nIn April - May\, 2021 AGC of Utah and CLA jointly launched the 2021 Wage &amp\; Benefits Survey to determine the current level of our industry&#39\;s employment packages.&nbsp\;&nbsp\;<br />\n<br />\nOur presenters will discuss the results and how the data may impact your company&#39\;s compensation decisions.&nbsp\; Presenters will also identify prevailing business trends in our industry.&nbsp\;&nbsp\;<br />\n<br />\n<strong>Presenters:&nbsp\; Byron Destigter - CLA &amp\; Joey Gilbert - AGC of Utah</strong>
LOCATION:AGC Headquarters 2207 South 1070 West Salt Lake City UT 84119
UID:e.3104.14303
SEQUENCE:3
DTSTAMP:20260420T114612Z
URL:https://members.agc-utah.org/events/details/are-you-on-track-2021-wage-benefit-survey-results-07-13-21-14303
END:VEVENT

END:VCALENDAR
