BEGIN:VCALENDAR
VERSION:2.0
PRODID:-//ChamberMaster//Event Calendar 2.0//EN
METHOD:PUBLISH
X-PUBLISHED-TTL:P3D
REFRESH-INTERVAL:P3D
CALSCALE:GREGORIAN
BEGIN:VEVENT
DTSTART:20210713T173000Z
DTEND:20210713T190000Z
X-MICROSOFT-CDO-ALLDAYEVENT:FALSE
SUMMARY:Are You on Track? 2021 Wage & Benefit Survey Results - St. George (07.13.21)
DESCRIPTION:The results are in!\n\n\n\nIn April - May\, 2021 AGC of Utah and CLA jointly launched the 2021 Wage & Benefits Survey to determine the current level of our industry's employment packages.  \n\n\n\nOur presenters will discuss the results and how the data may impact your company's compensation decisions.  Presenters will also identify prevailing business trends in our industry.  \n\n\n\nPresenters:  Byron Destigter - CLA & Joey Gilbert - AGC of Utah
X-ALT-DESC;FMTTYPE=text/html:<br />\nThe results are in!<br />\n<br />\nIn April - May\, 2021 AGC of Utah and CLA jointly launched the 2021 Wage &amp\; Benefits Survey to determine the current level of our industry&#39\;s employment packages.&nbsp\;&nbsp\;<br />\n<br />\nOur presenters will discuss the results and how the data may impact your company&#39\;s compensation decisions.&nbsp\; Presenters will also identify prevailing business trends in our industry.&nbsp\;&nbsp\;<br />\n<br />\n<strong>Presenters:&nbsp\; Byron Destigter - CLA &amp\; Joey Gilbert - AGC of Utah</strong>
LOCATION:AGC Southern Utah 230 North 1680 East B-1 St. George UT 84790 In Person | Virtual Instructor
UID:e.3104.14307
SEQUENCE:3
DTSTAMP:20260420T103352Z
URL:https://members.agc-utah.org/events/details/are-you-on-track-2021-wage-benefit-survey-results-st-george-07-13-21-14307
END:VEVENT

END:VCALENDAR
