BEGIN:VCALENDAR
VERSION:2.0
PRODID:-//ChamberMaster//Event Calendar 2.0//EN
METHOD:PUBLISH
X-PUBLISHED-TTL:P3D
REFRESH-INTERVAL:P3D
CALSCALE:GREGORIAN
BEGIN:VEVENT
DTSTART;VALUE=DATE:20190427
DTEND;VALUE=DATE:20190428
TRANSP:TRANSPARENT
X-MICROSOFT-CDO-ALLDAYEVENT:TRUE
SUMMARY:ATV Excursion - St. George (04.27.19)
DESCRIPTION:Download Registration Form
X-ALT-DESC;FMTTYPE=text/html:<span style="font-size:14px\;"><span style="font-family:verdana\;"><span style="background-color:#B22222\;"><a href="https://chambermaster.blob.core.windows.net/userfiles/UserFiles/chambers/3104/File/ATVRegistrationSponsorForm.pdf"><span style="color:#FFFFFF\;">Download Registration Form</span></a><span style="color:#FFFFFF\;"> </span></span></span></span>
LOCATION:Meet @ AGC Southern Utah 230 North 1680 E B-1 | St. George UT Trail: Mesquite Loop (Nevada)
UID:e.3104.13890
SEQUENCE:3
DTSTAMP:20260420T114141Z
URL:https://members.agc-utah.org/events/details/atv-excursion-st-george-04-27-19-13890
END:VEVENT

END:VCALENDAR
