BEGIN:VCALENDAR
VERSION:2.0
PRODID:-//ChamberMaster//Event Calendar 2.0//EN
METHOD:PUBLISH
X-PUBLISHED-TTL:P3D
REFRESH-INTERVAL:P3D
CALSCALE:GREGORIAN
BEGIN:VEVENT
DTSTART;VALUE=DATE:20201121
DTEND;VALUE=DATE:20201122
TRANSP:TRANSPARENT
X-MICROSOFT-CDO-ALLDAYEVENT:TRUE
SUMMARY:ATV Excursion - St. George (11.21.20)
DESCRIPTION:Meet @ AGC Office\n\n230 North 1680 East B1\n\nSt. George UT 84790\n\n\n\nTrail: West Rim Trail\, Sand Hollow State Park
X-ALT-DESC;FMTTYPE=text/html:<span background-color:="" font-size:="" style="color: rgb(51\, 51\, 51)\; font-family: sans-serif\, Arial\, Verdana\, " trebuchet="">Meet @ AGC Office<br />\n230 North 1680 East B1<br />\nSt. George UT 84790</span><br />\n<br />\nTrail: West Rim Trail\, Sand Hollow State Park<br />\n<br />\n&nbsp\;
LOCATION:
UID:e.3104.14129
SEQUENCE:3
DTSTAMP:20260420T224025Z
URL:https://members.agc-utah.org/events/details/atv-excursion-st-george-11-21-20-14129
END:VEVENT

END:VCALENDAR
