BEGIN:VCALENDAR
VERSION:2.0
PRODID:-//ChamberMaster//Event Calendar 2.0//EN
METHOD:PUBLISH
X-PUBLISHED-TTL:P3D
REFRESH-INTERVAL:P3D
CALSCALE:GREGORIAN
BEGIN:VEVENT
DTSTART;VALUE=DATE:20191123
DTEND;VALUE=DATE:20191124
TRANSP:TRANSPARENT
X-MICROSOFT-CDO-ALLDAYEVENT:TRUE
SUMMARY:ATV Excursion - St. George (11.23.19)
DESCRIPTION:Meet @ Utah DMV Hurricane Office Parking Lot\n\n100 South 5300 West\, Hurricane (near Washington County Fairgrounds)
X-ALT-DESC;FMTTYPE=text/html:<span background-color:="" font-size:="" style="color: rgb(51\, 51\, 51)\; font-family: sans-serif\, Arial\, Verdana\, " trebuchet="">Meet @ Utah DMV Hurricane Office Parking Lot<br />\n100 South 5300 West\, Hurricane (near Washington County Fairgrounds)</span><br />\n<br />\n&nbsp\;
LOCATION:Trail: Elephant Butte to Mt. Carmel Junction (The Barracks) Loop
UID:e.3104.13960
SEQUENCE:3
DTSTAMP:20260420T204129Z
URL:https://members.agc-utah.org/events/details/atv-excursion-st-george-11-23-19-13960
END:VEVENT

END:VCALENDAR
