BEGIN:VCALENDAR
VERSION:2.0
PRODID:-//ChamberMaster//Event Calendar 2.0//EN
METHOD:PUBLISH
X-PUBLISHED-TTL:P3D
REFRESH-INTERVAL:P3D
CALSCALE:GREGORIAN
BEGIN:VEVENT
DTSTART:20190301T153000Z
DTEND:20190301T164500Z
X-MICROSOFT-CDO-ALLDAYEVENT:FALSE
SUMMARY:Blue Stakes of Utah 811 Safety Course - St. George (03.01.19)
DESCRIPTION:Presented by Spence Felsted
X-ALT-DESC;FMTTYPE=text/html:Presented by Spence Felsted
LOCATION:AGC Southern Utah 230 North 1680 East Suite B-1 St. George UT 84790
UID:e.3104.13865
SEQUENCE:3
DTSTAMP:20260420T090358Z
URL:https://members.agc-utah.org/events/details/blue-stakes-of-utah-811-safety-course-st-george-03-01-19-13865
END:VEVENT

END:VCALENDAR
