BEGIN:VCALENDAR
VERSION:2.0
PRODID:-//ChamberMaster//Event Calendar 2.0//EN
METHOD:PUBLISH
X-PUBLISHED-TTL:P3D
REFRESH-INTERVAL:P3D
CALSCALE:GREGORIAN
BEGIN:VEVENT
DTSTART:20240822T180000Z
DTEND:20240822T190000Z
X-MICROSOFT-CDO-ALLDAYEVENT:FALSE
SUMMARY:Blueprints for Balance: Power of Self-Talk Webinar (08.22.24)
DESCRIPTION:REGISTER\nAs a worker within the construction industry or anyone grappling with the challenges of everyday life\, it's essential to prioritize your mental well-being. That's why "Balance for Blueprints" is designed to provide valuable insights and practical strategies to navigate life's ups and downs. \n\n \n\n These sessions are not just about work-related stress but also about managing personal issues effectively. \n\nPresenter: Dr. Christy Kane\, CMHC\, PsyD\n\nDr. Kane is a dedicated mental health professional with over 20 years of experience in trauma treatment\, mood disorders\, depression and anxiety.  Dr. Kane's expertise extends beyond clinical practice\; as the former owner and Clinical Director of two residential treatment centers\, she has empowered youth to manage their mental health and contribute positively to society. From parent nights to TEDx talks\, Dr. Kane shares her insights nationally\, advocating for mental health awareness and intervention.
X-ALT-DESC;FMTTYPE=text/html:<br />\n<a href="https://us02web.zoom.us/webinar/register/WN_8A8J9x01TNqz0j8FpQUkWA"><span style="color:#FFFFFF\;"><strong><span style="font-size:20px\;"><span style="background-color:#B22222\;">REGISTER</span></span></strong></span></a>\n<p><span style="font-size:11px\;"><span style="color:#4D4D4D\;"><span style="font-family:verdana\,sans-serif\;">As a worker within the construction industry or anyone grappling with the challenges of everyday life\, it&#39\;s essential to prioritize your mental well-being. That&#39\;s why &quot\;Balance for Blueprints&quot\; is designed to provide valuable insights and practical strategies to navigate life&#39\;s ups and downs. </span></span><br />\n&nbsp\;<br />\n&#65279\;<span style="color:#4D4D4D\;"><span style="font-family:verdana\,sans-serif\;">These sessions are not just about work-related stress but also about managing personal issues effectively.&nbsp\;</span></span></span></p>\n\n<p><span style="font-size:11px\;"><strong><span style="font-family:verdana\,sans-serif\;">Presenter: Dr. Christy Kane\, CMHC\, PsyD</span></strong></span></p>\n\n<p><span style="font-size:11px\;"><span style="color:#343332\;"><span style="font-family:verdana\,sans-serif\;">Dr. Kane is a dedicated mental health professional with over 20 years of experience in trauma treatment\, mood disorders\, depression and anxiety.&nbsp\;&nbsp\;Dr. Kane&#39\;s expertise extends beyond clinical practice\; as the former owner and Clinical Director of two residential treatment centers\, she has empowered youth to manage their mental health and contribute positively to society. From parent nights to TEDx talks\, Dr. Kane shares her insights nationally\, advocating for mental health awareness and intervention.</span></span></span></p>\n
LOCATION:Webinar
UID:e.3104.14870
SEQUENCE:3
DTSTAMP:20260423T092944Z
URL:https://members.agc-utah.org/events/details/blueprints-for-balance-power-of-self-talk-webinar-08-22-24-14870
END:VEVENT

END:VCALENDAR
