BEGIN:VCALENDAR
VERSION:2.0
PRODID:-//ChamberMaster//Event Calendar 2.0//EN
METHOD:PUBLISH
X-PUBLISHED-TTL:P3D
REFRESH-INTERVAL:P3D
CALSCALE:GREGORIAN
BEGIN:VEVENT
DTSTART:20200616T180000Z
DTEND:20200616T193000Z
X-MICROSOFT-CDO-ALLDAYEVENT:FALSE
SUMMARY:Business Survival in the New Normal - Live Webinar (06.16.20)
DESCRIPTION:Presentation:\n\nIn this presentation\, we'll take a good look at areas of potential delegation.\n\nLearn how to subcontract out your headaches\, focus on what's most important to be a success with your business\, and let go of what isn't working.\n\nYou're great at what you do. Do that!\n\n\n\nPresenters: Raina and Craig Le Duc\, Schooley Mitchell of St George\,\n\nBrek Nielson\, Nexeo\, Chris Badger\, NOW CFO\, & Ronnie LeBaron\, GlitchBusters
X-ALT-DESC;FMTTYPE=text/html:Presentation:<br />\nIn this presentation\, we&rsquo\;ll take a good look at areas of potential delegation.<br />\nLearn how to subcontract out your headaches\, focus on what&rsquo\;s most important to be a success with your business\, and let go of what isn&rsquo\;t working.<br />\nYou&rsquo\;re great at what you do. Do that!<br />\n<br />\nPresenters: Raina and Craig Le Duc\, Schooley Mitchell of St George\,<br />\nBrek Nielson\, Nexeo\, Chris Badger\, NOW CFO\, &amp\; Ronnie LeBaron\, GlitchBusters
LOCATION:Live Webinar *Meeting login will be sent the day before course - please enter accurate email address for each individual registered.
UID:e.3104.14077
SEQUENCE:3
DTSTAMP:20260421T073214Z
URL:https://members.agc-utah.org/events/details/business-survival-in-the-new-normal-live-webinar-06-16-20-14077
END:VEVENT

END:VCALENDAR
