BEGIN:VCALENDAR
VERSION:2.0
PRODID:-//ChamberMaster//Event Calendar 2.0//EN
METHOD:PUBLISH
X-PUBLISHED-TTL:P3D
REFRESH-INTERVAL:P3D
CALSCALE:GREGORIAN
BEGIN:VEVENT
DTSTART:20190904T173000Z
DTEND:20190904T190000Z
X-MICROSOFT-CDO-ALLDAYEVENT:FALSE
SUMMARY:Challenges for Small Business Contractors (09.04.19)
DESCRIPTION:Small businesses face enough challenges. Come engage and learn with other small businesses in the AGC.\n\nWe will discuss common challenges that small businesses face when recruiting\, on-boarding\, and retaining their workforce.\n\n \n\nTopics:\n\n	HR Best Practices and Compliance Basics\n	Employee Benefits Best Practices and Compliance Basics\n	401k & Retirement Plans Best Practices and Compliance Basics\n\nLunch sponsored by Butterfield Onsite Drug Testing.\n\n \n\nPresenters: Sidney Bruce\, Michael Sayre\, Jason Knight\, CUI Agency
X-ALT-DESC;FMTTYPE=text/html:<span style="font-weight:normal\;"><span style="font-family:tahoma\,sans-serif\;"><span style="font-size:10.0pt\;">Small businesses face enough challenges. Come engage and learn with other small businesses in the AGC.</span></span></span><br />\n<span style="font-weight:normal\;"><span style="font-family:tahoma\,sans-serif\;"><span style="font-size:10.0pt\;">We will discuss common challenges that small businesses face when recruiting\, on-boarding\, and retaining their workforce.</span></span></span><br />\n&nbsp\;<br />\n<span style="font-weight:normal\;"><span style="font-family:tahoma\,sans-serif\;"><span style="font-size:10.0pt\;">Topics:</span></span></span>\n<ul>\n	<li><span style="font-weight:normal\;"><span style="font-family:tahoma\,sans-serif\;"><span style="font-size:10.0pt\;">HR Best Practices and Compliance Basics</span></span></span></li>\n	<li><span style="font-weight:normal\;"><span style="font-family:tahoma\,sans-serif\;"><span style="font-size:10.0pt\;">Employee Benefits Best Practices and Compliance Basics</span></span></span></li>\n	<li><span style="font-weight:normal\;"><span style="font-family:tahoma\,sans-serif\;"><span style="font-size:10.0pt\;">401k &amp\; Retirement Plans Best Practices and Compliance Basics</span></span></span></li>\n</ul>\n<span style="font-weight:normal\;"><span style="font-family:tahoma\,sans-serif\;"><span style="font-size:10.0pt\;">Lunch sponsored by Butterfield Onsite Drug Testing.</span></span></span><br />\n&nbsp\;<br />\n<span style="font-family:tahoma\,sans-serif\;"><span style="font-size:10.0pt\;"><strong>Presenters</strong>: </span></span><span style="font-weight:normal\;"><span style="font-family:tahoma\,sans-serif\;"><span style="font-size:10.0pt\;">Sidney Bruce\, Michael Sayre\, Jason Knight\, CUI Agency</span></span></span><br />\n&nbsp\;
LOCATION:AGC Headquarters 2207 South 1070 West Salt Lake City UT 84119
UID:e.3104.13935
SEQUENCE:3
DTSTAMP:20260420T180001Z
URL:https://members.agc-utah.org/events/details/challenges-for-small-business-contractors-09-04-19-13935
END:VEVENT

END:VCALENDAR
