BEGIN:VCALENDAR
VERSION:2.0
PRODID:-//ChamberMaster//Event Calendar 2.0//EN
METHOD:PUBLISH
X-PUBLISHED-TTL:P3D
REFRESH-INTERVAL:P3D
CALSCALE:GREGORIAN
BEGIN:VEVENT
DTSTART:20200916T140000Z
DTEND:20200916T180000Z
X-MICROSOFT-CDO-ALLDAYEVENT:FALSE
SUMMARY:Confined Space Training (09.16.20)
DESCRIPTION:Preview of What the Class Includes: \n\n\n\n  What is a Confined Space?\n\n  Continuous Occupancy\n\n  Types of Confined Spaces\n\n  Early Warning System\n\n  Entry Supervisor/Qualified Person\n\n  Monitoring\n\n  Controlling Contractor\n\n  Equipment\n\n  Training/Rescue\n\n  Compliance Solutions\n\n\n\n*Qualifies for AGC of Utah /WCF Insurance Safety Credit\n\n\n\nPresenter: Chelly Heninger\, Awareness is Key Safety Services
X-ALT-DESC;FMTTYPE=text/html:<strong>Preview of What the Class Includes: </strong><br />\n<br />\n&#61623\; What is a Confined Space?<br />\n&#61623\; Continuous Occupancy<br />\n&#61623\; Types of Confined Spaces<br />\n&#61623\; Early Warning System<br />\n&#61623\; Entry Supervisor/Qualified Person<br />\n&#61623\; Monitoring<br />\n&#61623\; Controlling Contractor<br />\n&#61623\; Equipment<br />\n&#61623\; Training/Rescue<br />\n&#61623\; Compliance Solutions<br />\n<br />\n*Qualifies for AGC of Utah /WCF Insurance Safety Credit<br />\n<br />\n<strong>Presenter: Chelly Heninger\, Awareness is Key Safety Services</strong>
LOCATION:AGC Training Center 1260 South 3600 West Salt Lake City UT 84104
UID:e.3104.14113
SEQUENCE:3
DTSTAMP:20260421T035547Z
URL:https://members.agc-utah.org/events/details/confined-space-training-09-16-20-14113
END:VEVENT

END:VCALENDAR
