BEGIN:VCALENDAR
VERSION:2.0
PRODID:-//ChamberMaster//Event Calendar 2.0//EN
METHOD:PUBLISH
X-PUBLISHED-TTL:P3D
REFRESH-INTERVAL:P3D
CALSCALE:GREGORIAN
BEGIN:VEVENT
DTSTART;VALUE=DATE:20191107
DTEND;VALUE=DATE:20191109
TRANSP:TRANSPARENT
X-MICROSOFT-CDO-ALLDAYEVENT:TRUE
SUMMARY:Construction Accounting Seminar - St. George (Nov 2019)
DESCRIPTION:Economic Environment - Tax Reform Changes - Succession Planning - Comparative Construction Data/Trends - Key Strategic Decisions Using WIP Reports - Increasing Bonding Capacity.\n\n6 CE Contractor Credits\n\nPresented by: HintonBurdick CPAs & Advisors & Banasky Insurance
X-ALT-DESC;FMTTYPE=text/html:Economic Environment - Tax Reform Changes - Succession Planning - Comparative Construction Data/Trends - Key Strategic Decisions Using WIP Reports - Increasing Bonding Capacity.<br />\n6 CE Contractor Credits<br />\nPresented by: HintonBurdick CPAs &amp\; Advisors &amp\; Banasky Insurance
LOCATION:AGC Southern Utah 230 North 1680 East B-1 St. George UT 84790
UID:e.3104.13922
SEQUENCE:3
DTSTAMP:20260420T204024Z
URL:https://members.agc-utah.org/events/details/construction-accounting-seminar-st-george-nov-2019-13922
END:VEVENT

END:VCALENDAR
