BEGIN:VCALENDAR
VERSION:2.0
PRODID:-//ChamberMaster//Event Calendar 2.0//EN
METHOD:PUBLISH
X-PUBLISHED-TTL:P3D
REFRESH-INTERVAL:P3D
CALSCALE:GREGORIAN
BEGIN:VEVENT
DTSTART:20200929T160000Z
DTEND:20200929T180000Z
X-MICROSOFT-CDO-ALLDAYEVENT:FALSE
SUMMARY:Construction Focus Four - IN SPANISH (09.29.20)
DESCRIPTION:The majority of workplace accidents and fatalities are a result of what OSHA calls the "Focus Four Hazards": Fall Hazards\, Caught-In-Between Hazards\, Struck-By Hazards and Electrical Hazards. This class briefly recaps each of these hazards and provide practical steps that workers can take to protect themselves and their coworkers.\n\n \n\nPresenter: Corporate Safety Group
X-ALT-DESC;FMTTYPE=text/html:<span style="font-weight:normal\;"><span style="font-family:tahoma\,sans-serif\;"><span style="font-size:10.0pt\;">The majority of workplace accidents and fatalities are a result of what OSHA calls the &ldquo\;Focus Four Hazards&rdquo\;: Fall Hazards\, Caught-In-Between Hazards\, Struck-By Hazards and Electrical Hazards. This class briefly recaps each of these hazards and provide practical steps that workers can take to protect themselves and their coworkers.</span></span></span><br />\n&nbsp\;<br />\n<strong><span style="font-family:tahoma\,sans-serif\;"><span style="font-size:10.0pt\;">Presenter: Corporate Safety Group</span></span></strong>
LOCATION:AGC Training Center 1260 South 3600 West Salt Lake City UT 84104
UID:e.3104.14116
SEQUENCE:3
DTSTAMP:20260421T035633Z
URL:https://members.agc-utah.org/events/details/construction-focus-four-in-spanish-09-29-20-14116
END:VEVENT

END:VCALENDAR
