BEGIN:VCALENDAR
VERSION:2.0
PRODID:-//ChamberMaster//Event Calendar 2.0//EN
METHOD:PUBLISH
X-PUBLISHED-TTL:P3D
REFRESH-INTERVAL:P3D
CALSCALE:GREGORIAN
BEGIN:VEVENT
DTSTART:20190308T153000Z
DTEND:20190308T203000Z
X-MICROSOFT-CDO-ALLDAYEVENT:FALSE
SUMMARY:CPR\, AED & First Aid Certification - St. George (03.08.19)
DESCRIPTION:American Safety & Health Institute\n\nPresenter: Rob Hooper
X-ALT-DESC;FMTTYPE=text/html:American Safety &amp\; Health Institute<br />\nPresenter: Rob Hooper
LOCATION:AGC Southern Utah 230 North 1680 East # B-1 St. George UT 84790
UID:e.3104.13875
SEQUENCE:3
DTSTAMP:20260420T101654Z
URL:https://members.agc-utah.org/events/details/cpr-aed-first-aid-certification-st-george-03-08-19-13875
END:VEVENT

END:VCALENDAR
