BEGIN:VCALENDAR
VERSION:2.0
PRODID:-//ChamberMaster//Event Calendar 2.0//EN
METHOD:PUBLISH
X-PUBLISHED-TTL:P3D
REFRESH-INTERVAL:P3D
CALSCALE:GREGORIAN
BEGIN:VEVENT
DTSTART:20201111T153000Z
DTEND:20201111T190000Z
X-MICROSOFT-CDO-ALLDAYEVENT:FALSE
SUMMARY:CPR\, AED & First Aid Certification - St. George (11.11.20)
DESCRIPTION:Presenter: Robert Hooper\, Southern Utah CPR (American Health & Safety Institute)
X-ALT-DESC;FMTTYPE=text/html:<br />\nPresenter: Robert Hooper\, Southern Utah CPR (American Health &amp\; Safety Institute)
LOCATION:Southern Utah AGC 230 North 1680 East # B-1 St. George UT 84790
UID:e.3104.14143
SEQUENCE:3
DTSTAMP:20260420T063259Z
URL:https://members.agc-utah.org/events/details/cpr-aed-first-aid-certification-st-george-11-11-20-14143
END:VEVENT

END:VCALENDAR
