BEGIN:VCALENDAR
VERSION:2.0
PRODID:-//ChamberMaster//Event Calendar 2.0//EN
METHOD:PUBLISH
X-PUBLISHED-TTL:P3D
REFRESH-INTERVAL:P3D
CALSCALE:GREGORIAN
BEGIN:VEVENT
DTSTART:20191204T153000Z
DTEND:20191204T193000Z
X-MICROSOFT-CDO-ALLDAYEVENT:FALSE
SUMMARY:CPR\, AED & First Aid Certification - St. George (12.04.19)
DESCRIPTION:Presenter: Robert Hooper
X-ALT-DESC;FMTTYPE=text/html:Presenter: Robert Hooper
LOCATION:AGC Southern Utah 230 North 1680 East # B-1 St. George UT 84790
UID:e.3104.13980
SEQUENCE:3
DTSTAMP:20260420T223115Z
URL:https://members.agc-utah.org/events/details/cpr-aed-first-aid-certification-st-george-12-04-19-13980
END:VEVENT

END:VCALENDAR
