BEGIN:VCALENDAR
VERSION:2.0
PRODID:-//ChamberMaster//Event Calendar 2.0//EN
METHOD:PUBLISH
X-PUBLISHED-TTL:P3D
REFRESH-INTERVAL:P3D
CALSCALE:GREGORIAN
BEGIN:VEVENT
DTSTART:20221110T153000Z
DTEND:20221110T200000Z
X-MICROSOFT-CDO-ALLDAYEVENT:FALSE
SUMMARY:CPR/AED/First Aid/Stop the Bleed Certification - St. George (11.10.22)
DESCRIPTION:This course is for anyone with limited or no medical training who needs a course completion card in CPR\, First Aid and AED use to meet job\, regulatory or other requirements.  We will also cover stop the bleed with wound management\, and physiology of bleeding.  \n\n\n\nPresenter: Robert Hooper\, Southern Utah CPR (American Health & Safety Institute)
X-ALT-DESC;FMTTYPE=text/html:This course is for anyone with limited or no medical training who needs a course completion card in CPR\, First Aid and AED use to meet job\, regulatory or other requirements.&nbsp\; We will also cover stop the bleed with wound management\, and physiology of bleeding.&nbsp\;&nbsp\;<br />\n<br />\nPresenter: Robert Hooper\, Southern Utah CPR (American Health &amp\; Safety Institute)
LOCATION:Dixie Technical College 610 So Tech Ridge Drive Building C\, Room 104 St. George UT 84770
UID:e.3104.14534
SEQUENCE:3
DTSTAMP:20260422T135010Z
URL:https://members.agc-utah.org/events/details/cpr-aed-first-aid-stop-the-bleed-certification-st-george-11-10-22-14534
END:VEVENT

END:VCALENDAR
