BEGIN:VCALENDAR
VERSION:2.0
PRODID:-//ChamberMaster//Event Calendar 2.0//EN
METHOD:PUBLISH
X-PUBLISHED-TTL:P3D
REFRESH-INTERVAL:P3D
CALSCALE:GREGORIAN
BEGIN:VEVENT
DTSTART:20210217T150000Z
DTEND:20210217T193000Z
X-MICROSOFT-CDO-ALLDAYEVENT:FALSE
SUMMARY:CPR/First Aid/AED Certification Class - IN SPANISH (02.17.21) CANCELLED
DESCRIPTION:CPR\, First Aid\, AED Certification Class - IN SPANISH\n\n\n\nThis course is for anyone with limited or no medical training who needs a course completion card in CPR\, First Aid and AED use to meet job\, regulatory or other requirements.\n\n\n\nPresenter: Corporate Safety Group
X-ALT-DESC;FMTTYPE=text/html:<br />\n<strong>CPR\, First Aid\, AED Certification Class - IN SPANISH</strong><br />\n<br />\nThis course is for anyone with limited or no medical training who needs a course completion card in CPR\, First Aid and AED use to meet job\, regulatory or other requirements.<br />\n<br />\n<strong>Presenter: Corporate Safety Group</strong><br />\n<br />\n&nbsp\;
LOCATION:AGC Training Center 1260 South 3600 West Salt Lake City UT 84104
UID:e.3104.14177
SEQUENCE:3
DTSTAMP:20260420T175733Z
URL:https://members.agc-utah.org/events/details/cpr-first-aid-aed-certification-class-in-spanish-02-17-21-cancelled-14177
END:VEVENT

END:VCALENDAR
