BEGIN:VCALENDAR
VERSION:2.0
PRODID:-//ChamberMaster//Event Calendar 2.0//EN
METHOD:PUBLISH
X-PUBLISHED-TTL:P3D
REFRESH-INTERVAL:P3D
CALSCALE:GREGORIAN
BEGIN:VEVENT
DTSTART:20250327T180000Z
DTEND:20250327T200000Z
X-MICROSOFT-CDO-ALLDAYEVENT:FALSE
SUMMARY:DFCM Leadership Meet & Greet - St. George (03.27.25)
DESCRIPTION:Please join the AGC of Utah and ACEC of Utah as we welcome and introduce construction leaders from the Division of Facilities\, Construction & Management (DFCM).\n\n\n\nThe open house format will give you the opportunity to meet and welcome DFCM Project Managers along with State Agency and Higher Ed decision makers from across the state.\n\n\n\nLunch will be served - no cost\, but RSVP is required.
X-ALT-DESC;FMTTYPE=text/html:Please join the AGC of Utah and ACEC of Utah as we welcome and introduce construction leaders from the Division of Facilities\, Construction &amp\; Management (DFCM).<br />\n<br />\nThe open house format will give you the opportunity to meet and welcome DFCM Project Managers along with State Agency and Higher Ed decision makers from across the state.<br />\n<br />\nLunch will be served - no cost\, but RSVP is required.&nbsp\;
LOCATION:Jeffrey R. Holland Centennial Commons Zion Room\, 5th Floor 225 South University Avenue St. George\, UT 84770
UID:e.3104.15070
SEQUENCE:3
DTSTAMP:20260421T084041Z
URL:https://members.agc-utah.org/events/details/dfcm-leadership-meet-greet-st-george-03-27-25-15070
END:VEVENT

END:VCALENDAR
