BEGIN:VCALENDAR
VERSION:2.0
PRODID:-//ChamberMaster//Event Calendar 2.0//EN
METHOD:PUBLISH
X-PUBLISHED-TTL:P3D
REFRESH-INTERVAL:P3D
CALSCALE:GREGORIAN
BEGIN:VEVENT
DTSTART:20241121T190000Z
DTEND:20241121T210000Z
X-MICROSOFT-CDO-ALLDAYEVENT:FALSE
SUMMARY:DFCM Leadership Meet & Greet - St. George (11.21.24)
DESCRIPTION:Please join the AGC of Utah\, AIA of Utah and ACEC of Utah as we welcome and introduce construction leaders from the Division of Facilities\, Construction & Management (DFCM).\n\n\n\nThe open house format will give you the opportunity to meet and welcome DFCM Project Managers along with State Agency and Higher Ed decision makers from across the state.\n\n\n\nRefreshments will be served - no cost\, but RSVP is required.
X-ALT-DESC;FMTTYPE=text/html:Please join the AGC of Utah\, AIA of Utah and ACEC of Utah as we welcome and introduce construction leaders from the Division of Facilities\, Construction &amp\; Management (DFCM).<br />\n<br />\nThe open house format will give you the opportunity to meet and welcome DFCM Project Managers along with State Agency and Higher Ed decision makers from across the state.<br />\n<br />\nRefreshments will be served - no cost\, but RSVP is required.&nbsp\;
LOCATION:Gardner Center\, Gardner Ballroom Utah Tech University 831 East 300 South St. George\, UT Link to Campus Map: https://map.utahtech.edu/ The best place to park is Lot M\, located at 300 S 700 E\, but it is also the busiest lot on campus. If it is full\, we would recommend Lot N\, located at 400 S 900 E.
UID:e.3104.14984
SEQUENCE:3
DTSTAMP:20260426T000716Z
URL:https://members.agc-utah.org/events/details/dfcm-leadership-meet-greet-st-george-11-21-24-14984
END:VEVENT

END:VCALENDAR
