BEGIN:VCALENDAR
VERSION:2.0
PRODID:-//ChamberMaster//Event Calendar 2.0//EN
METHOD:PUBLISH
X-PUBLISHED-TTL:P3D
REFRESH-INTERVAL:P3D
CALSCALE:GREGORIAN
BEGIN:VEVENT
DTSTART:20210427T153000Z
DTEND:20210427T163000Z
X-MICROSOFT-CDO-ALLDAYEVENT:FALSE
SUMMARY:DFCM Legislative Update (04.27.21) Webinar
DESCRIPTION:REGISTER HERE\n\n\n\nDFCM  Leadership will review the 2021 Legislative Update.\n\n\n\nPresenters:    Jim Russell\, DFCM Director & Matt Boyer\, DFCM Capital Development Assistant Director
X-ALT-DESC;FMTTYPE=text/html:<br />\n<a href="https://us02web.zoom.us/webinar/register/WN_Dsfs1zN5QEK5Q2mqkD7Nyw" style="color: rgb(7\, 130\, 193)\; font-family: sans-serif\, Arial\, Verdana\, &quot\;Trebuchet MS&quot\;\; font-size: 13px\;"><span style="font-size: 18px\;"><span style="color: rgb(255\, 255\, 255)\;"><strong><span style="background-color: rgb(178\, 34\, 34)\;">REGISTER HERE</span></strong></span></span></a><br />\n<br />\nDFCM&nbsp\; Leadership will review the 2021 Legislative Update.<br />\n<br />\n<strong>Presenters:&nbsp\; &nbsp\; Jim Russell\, DFCM Director &amp\; Matt Boyer\, DFCM Capital Development Assistant Director</strong><br />\n&nbsp\;&nbsp\;&nbsp\;&nbsp\;&nbsp\;&nbsp\;&nbsp\;&nbsp\;&nbsp\;&nbsp\;&nbsp\;&nbsp\;
LOCATION:
UID:e.3104.14271
SEQUENCE:3
DTSTAMP:20260420T143625Z
URL:https://members.agc-utah.org/events/details/dfcm-legislative-update-04-27-21-webinar-14271
END:VEVENT

END:VCALENDAR
