BEGIN:VCALENDAR
VERSION:2.0
PRODID:-//ChamberMaster//Event Calendar 2.0//EN
METHOD:PUBLISH
X-PUBLISHED-TTL:P3D
REFRESH-INTERVAL:P3D
CALSCALE:GREGORIAN
BEGIN:VEVENT
DTSTART:20190417T143000Z
DTEND:20190417T160000Z
X-MICROSOFT-CDO-ALLDAYEVENT:FALSE
SUMMARY:DFCM Outlook for Work (04.17.19)
DESCRIPTION:DFCM Leadership will review the 2019 Outlook for Future Work and Funding. \n\n\n\nWith the end of the 2019 Utah Legislative session just a few weeks ago\, get the latest insights on DFCM policies\, projects\, and general industry trends from their leadership. \n\n\n\nPresenter:    Jim Russell   DFCM Director
X-ALT-DESC;FMTTYPE=text/html:DFCM Leadership will review the 2019 Outlook for Future Work and Funding.&nbsp\;<br />\n<br />\nWith the end of the 2019 Utah Legislative session just a few weeks ago\, get the latest insights on DFCM policies\, projects\, and general industry trends from their leadership.&nbsp\;<br />\n<br />\n<strong>Presenter:&nbsp\; &nbsp\; Jim Russell &ndash\; DFCM Director<br />\n&nbsp\; &nbsp\; &nbsp\; &nbsp\; &nbsp\; &nbsp\; &nbsp\; &nbsp\; &nbsp\; &nbsp\;</strong><br />\n&nbsp\;
LOCATION:AGC Headquarters 2207 South 1070 West Salt Lake City UT 84119
UID:e.3104.13902
SEQUENCE:3
DTSTAMP:20260420T101533Z
URL:https://members.agc-utah.org/events/details/dfcm-outlook-for-work-04-17-19-13902
END:VEVENT

END:VCALENDAR
