BEGIN:VCALENDAR
VERSION:2.0
PRODID:-//ChamberMaster//Event Calendar 2.0//EN
METHOD:PUBLISH
X-PUBLISHED-TTL:P3D
REFRESH-INTERVAL:P3D
CALSCALE:GREGORIAN
BEGIN:VEVENT
DTSTART:20210317T140000Z
DTEND:20210317T180000Z
X-MICROSOFT-CDO-ALLDAYEVENT:FALSE
SUMMARY:Excavation Safety (03.17.21)
DESCRIPTION:Join us for an interactive training on the hazards\, the regulations and industry best practices. \n\n \n\nIn this class we will cover Hazard Recognition\, Soil Classification\, Regulatory requirements for Sloping\, Shielding and Shoring and Competent Person Requirements. \n\n\n\nPresenter: Chelly Heninger\, Awareness is Key Safety Services
X-ALT-DESC;FMTTYPE=text/html:Join us for an interactive training on the hazards\, the regulations and industry best practices.&nbsp\;<br />\n&nbsp\;<br />\nIn this class we will cover Hazard Recognition\, Soil Classification\, Regulatory requirements for Sloping\, Shielding and Shoring and Competent Person Requirements.&nbsp\;<br />\n<br />\n<strong>Presenter: Chelly Heninger\, Awareness is Key Safety Services</strong>
LOCATION:AGC Training Center 1260 South 3600 West Salt Lake City UT 84104
UID:e.3104.14214
SEQUENCE:3
DTSTAMP:20260420T163631Z
URL:https://members.agc-utah.org/events/details/excavation-safety-03-17-21-14214
END:VEVENT

END:VCALENDAR
