BEGIN:VCALENDAR
VERSION:2.0
PRODID:-//ChamberMaster//Event Calendar 2.0//EN
METHOD:PUBLISH
X-PUBLISHED-TTL:P3D
REFRESH-INTERVAL:P3D
CALSCALE:GREGORIAN
BEGIN:VEVENT
DTSTART:20201113T150000Z
DTEND:20201113T190000Z
X-MICROSOFT-CDO-ALLDAYEVENT:FALSE
SUMMARY:Excavation Safety (11.13.20)
DESCRIPTION:Four employees in Utah have lost their lives in Excavations in the last 18 months. \n\nJoin us for an interactive training on the hazards\, the regulations and industry best practices. \n\n \n\nIn this class we will cover Hazard Recognition\, Soil Classification\, Regulatory requirements for Sloping\, Shielding and Shoring and Competent Person Requirements. \n\n\n\nPresenter: Chelly Heninger\, Awareness is Key Safety Services
X-ALT-DESC;FMTTYPE=text/html:Four employees in Utah have lost their lives in Excavations in the last 18 months.&nbsp\;<br />\nJoin us for an interactive training on the hazards\, the regulations and industry best practices.&nbsp\;<br />\n&nbsp\;<br />\nIn this class we will cover Hazard Recognition\, Soil Classification\, Regulatory requirements for Sloping\, Shielding and Shoring and Competent Person Requirements.&nbsp\;<br />\n<br />\n<strong>Presenter: Chelly Heninger\, Awareness is Key Safety Services</strong>
LOCATION:AGC Training Center 1260 South 3600 West Salt Lake City UT 84104
UID:e.3104.14153
SEQUENCE:3
DTSTAMP:20260420T224234Z
URL:https://members.agc-utah.org/events/details/excavation-safety-11-13-20-14153
END:VEVENT

END:VCALENDAR
