BEGIN:VCALENDAR
VERSION:2.0
PRODID:-//ChamberMaster//Event Calendar 2.0//EN
METHOD:PUBLISH
X-PUBLISHED-TTL:P3D
REFRESH-INTERVAL:P3D
CALSCALE:GREGORIAN
BEGIN:VEVENT
DTSTART:20190419T174500Z
DTEND:20190419T190000Z
X-MICROSOFT-CDO-ALLDAYEVENT:FALSE
SUMMARY:Excavation Safety L&L - St. George (04.19.19)
DESCRIPTION:Refresher & overview of the OSHA Excavation Safety Standards.\n\n\n\nPresenter: Dick Schneider\, Trench Shoring
X-ALT-DESC;FMTTYPE=text/html:Refresher &amp\; overview of the OSHA Excavation Safety Standards.<br />\n<br />\nPresenter: Dick Schneider\, Trench Shoring&nbsp\;&nbsp\;&nbsp\;&nbsp\;
LOCATION:AGC Southern Utah 230 North 1680 East #B-1 St. George UT 84790
UID:e.3104.13893
SEQUENCE:3
DTSTAMP:20260420T103246Z
URL:https://members.agc-utah.org/events/details/excavation-safety-l-l-st-george-04-19-19-13893
END:VEVENT

END:VCALENDAR
