BEGIN:VCALENDAR
VERSION:2.0
PRODID:-//ChamberMaster//Event Calendar 2.0//EN
METHOD:PUBLISH
X-PUBLISHED-TTL:P3D
REFRESH-INTERVAL:P3D
CALSCALE:GREGORIAN
BEGIN:VEVENT
DTSTART:20201113T200000Z
DTEND:20201114T000000Z
X-MICROSOFT-CDO-ALLDAYEVENT:FALSE
SUMMARY:Excavation Safety - Spanish (11.13.20)
DESCRIPTION:La clase se enfocara en capacitar a trabajadores nuevos y actuales de construcci n\, en la identificaci n de riesgo comunes en las operaciones de zanjas y excavaciones\, y en la forma de c mo evitarlos. Adem s de adquirir la capacidad de identificar los riesgos de la excavaci n de zanjas\, la habilidad de los trabajadores para llevar a cabo r pidamente las siguientes medidas apropiadas\, son cr ticas. Se discutir n las habilidades de comunicaci n necesarias para comunicar la existencia de riesgos\, durante un an lisis de estilos sociales/resoluci n de conflictos.\n\n---\n\nPresentaci n por: Corporate Safety Group
X-ALT-DESC;FMTTYPE=text/html:<span style="font-weight:normal\;"><span style="font-family:tahoma\,sans-serif\;"><span style="font-size:10.0pt\;">La clase se enfocara en capacitar a trabajadores nuevos y actuales de construcci&oacute\;n\, en la identificaci&oacute\;n de riesgo comunes en las operaciones de zanjas y excavaciones\, y en la forma de c&oacute\;mo evitarlos. Adem&aacute\;s de adquirir la capacidad de identificar los riesgos de la excavaci&oacute\;n de zanjas\, la habilidad de los trabajadores para llevar a cabo r&aacute\;pidamente las siguientes medidas apropiadas\, son cr&iacute\;ticas. Se discutir&aacute\;n las habilidades de comunicaci&oacute\;n necesarias para comunicar la existencia de riesgos\, durante un an&aacute\;lisis de estilos sociales/resoluci&oacute\;n de conflictos.</span></span></span><br />\n<span style="font-family:tahoma\,sans-serif\;"><span style="font-size:10.0pt\;">---</span></span><br />\n<strong><span style="font-family:tahoma\,sans-serif\;"><span style="font-size:10.0pt\;">Presentaci&oacute\;n por: Corporate Safety Group</span></span></strong><br />\n&nbsp\;
LOCATION:AGC Training Center 1260 South 3600 West Salt Lake City UT 84104
UID:e.3104.14158
SEQUENCE:3
DTSTAMP:20260421T002259Z
URL:https://members.agc-utah.org/events/details/excavation-safety-spanish-11-13-20-14158
END:VEVENT

END:VCALENDAR
