BEGIN:VCALENDAR
VERSION:2.0
PRODID:-//ChamberMaster//Event Calendar 2.0//EN
METHOD:PUBLISH
X-PUBLISHED-TTL:P3D
REFRESH-INTERVAL:P3D
CALSCALE:GREGORIAN
BEGIN:VEVENT
DTSTART:20190822T174500Z
DTEND:20190822T190000Z
X-MICROSOFT-CDO-ALLDAYEVENT:FALSE
SUMMARY:Extend your Training to your Cell L&L - St. George (08.22.19)
DESCRIPTION:Extend your Training to your Cell Phone:\n\nTraining that impacts employees & business productivity\n\n\n\nPresenter: Mark Jensen - TYFOOM
X-ALT-DESC;FMTTYPE=text/html:Extend your Training to your Cell Phone:<br />\nTraining that impacts employees &amp\; business productivity<br />\n<br />\n<strong>Presenter: Mark Jensen - TYFOOM</strong>
LOCATION:AGC Southern Utah 230 No 1680 East #B-1 St. George UT 84790
UID:e.3104.13937
SEQUENCE:3
DTSTAMP:20260420T161706Z
URL:https://members.agc-utah.org/events/details/extend-your-training-to-your-cell-l-l-st-george-08-22-19-13937
END:VEVENT

END:VCALENDAR
