BEGIN:VCALENDAR
VERSION:2.0
PRODID:-//ChamberMaster//Event Calendar 2.0//EN
METHOD:PUBLISH
X-PUBLISHED-TTL:P3D
REFRESH-INTERVAL:P3D
CALSCALE:GREGORIAN
BEGIN:VEVENT
DTSTART:20200424T143000Z
DTEND:20200424T180000Z
X-MICROSOFT-CDO-ALLDAYEVENT:FALSE
SUMMARY:Flagger Certification - Live Webinar (04.24.20)
DESCRIPTION:The AGC is pleased to announce a one-day seminar for the Flagger Certification training.\n\nThis seminar will educate attendees in the Standards from Utah Department of Transportation Flagger Training Handbook 2017 Edition. The seminar will be taught by an approved UDOT instructor. This class includes instruction\, class material\, and completion certificates.\n\n \n\nThis class is open to all construction industry personnel.
X-ALT-DESC;FMTTYPE=text/html:<span style="font-weight:normal\;"><span style="font-family:tahoma\,sans-serif\;"><span style="font-size:10.0pt\;">The AGC is pleased to announce a one-day seminar for the Flagger Certification training.</span></span></span><br />\n<span style="font-weight:normal\;"><span style="font-family:tahoma\,sans-serif\;"><span style="font-size:10.0pt\;">This seminar will educate attendees in the Standards from Utah Department of Transportation Flagger Training Handbook 2017 Edition. The seminar will be taught by an approved UDOT instructor. This class includes instruction\, class material\, and completion certificates.</span></span></span><br />\n&nbsp\;<br />\n<em><span style="font-weight:normal\;"><span style="font-size:10.0pt\;">This class is open to all construction industry personnel.</span></span></em>
LOCATION:Zoom Webinar *Meeting login will be sent the day before course - please enter accurate email address for each individual registered.
UID:e.3104.14027
SEQUENCE:3
DTSTAMP:20260421T051308Z
URL:https://members.agc-utah.org/events/details/flagger-certification-live-webinar-04-24-20-14027
END:VEVENT

END:VCALENDAR
