BEGIN:VCALENDAR
VERSION:2.0
PRODID:-//ChamberMaster//Event Calendar 2.0//EN
METHOD:PUBLISH
X-PUBLISHED-TTL:P3D
REFRESH-INTERVAL:P3D
CALSCALE:GREGORIAN
BEGIN:VEVENT
DTSTART:20191113T140000Z
DTEND:20191113T190000Z
X-MICROSOFT-CDO-ALLDAYEVENT:FALSE
SUMMARY:Forklift & MEWP Training - Morning Session (11.13.19)
DESCRIPTION:Forklift & Mobile Elevated Work Platform (MEWP) course includes instruction on the following topics:\n\n\n\n	Equipment Related Topics\n	Responsibilities\n	Safe Operation\n	Inspections\n	Function Tests\n	Workplace Related Topics\n	Requirements of OSHA Standards\n	Controls & Instrumentation\n	Visibility\n	Surface Conditions\n	Overhead Obstructions and High Voltage Conductors\n\n\nForklift Operation & MEWP Operation Certification Included\n\n \n\nPresenter: Robert Laffey\, Herc Rentals
X-ALT-DESC;FMTTYPE=text/html:<div><span style="font-weight:normal\;"><span style="font-family:tahoma\,sans-serif\;"><span style="font-size:10.0pt\;">Forklift &amp\; Mobile Elevated Work Platform (MEWP) course includes instruction on the following topics:</span></span></span></div>\n\n<div>\n<ul>\n	<li><span style="font-weight:normal\;"><span style="font-family:tahoma\,sans-serif\;"><span style="font-size:10.0pt\;">Equipment Related Topics</span></span></span></li>\n	<li><span style="font-weight:normal\;"><span style="font-family:tahoma\,sans-serif\;"><span style="font-size:10.0pt\;">Responsibilities</span></span></span></li>\n	<li><span style="font-weight:normal\;"><span style="font-family:tahoma\,sans-serif\;"><span style="font-size:10.0pt\;"><span style="font-weight:normal\;"><span style="font-family:tahoma\,sans-serif\;"><span style="font-size:10.0pt\;">Safe Operation</span></span></span></span></span></span></li>\n	<li><span style="font-weight:normal\;"><span style="font-family:tahoma\,sans-serif\;"><span style="font-size:10.0pt\;">Inspections</span></span></span></li>\n	<li><span style="font-weight:normal\;"><span style="font-family:tahoma\,sans-serif\;"><span style="font-size:10.0pt\;">Function Tests</span></span></span></li>\n	<li><span style="font-weight:normal\;"><span style="font-family:tahoma\,sans-serif\;"><span style="font-size:10.0pt\;">Workplace Related Topics</span></span></span></li>\n	<li><span style="font-weight:normal\;"><span style="font-family:tahoma\,sans-serif\;"><span style="font-size:10.0pt\;">Requirements of OSHA Standards</span></span></span></li>\n	<li><span style="font-weight:normal\;"><span style="font-family:tahoma\,sans-serif\;"><span style="font-size:10.0pt\;">Controls &amp\; Instrumentation</span></span></span></li>\n	<li><span style="font-weight:normal\;"><span style="font-family:tahoma\,sans-serif\;"><span style="font-size:10.0pt\;">Visibility</span></span></span></li>\n	<li><span style="font-weight:normal\;"><span style="font-family:tahoma\,sans-serif\;"><span style="font-size:10.0pt\;">Surface Conditions</span></span></span></li>\n	<li><span style="font-weight:normal\;"><span style="font-family:tahoma\,sans-serif\;"><span style="font-size:10.0pt\;">Overhead Obstructions and High Voltage Conductors</span></span></span></li>\n</ul>\n</div>\n<span style="font-family:tahoma\,sans-serif\;"><span style="font-size:10.0pt\;">Forklift Operation &amp\; MEWP Operation Certification Included</span></span><br />\n&nbsp\;<br />\n<strong><span style="font-family:tahoma\,sans-serif\;"><span style="font-size:10.0pt\;">Presenter: Robert Laffey\, Herc Rentals</span></span></strong>
LOCATION:AGC Training Center 1260 South 3600 West Salt Lake City UT 84104
UID:e.3104.13969
SEQUENCE:3
DTSTAMP:20260420T204152Z
URL:https://members.agc-utah.org/events/details/forklift-mewp-training-morning-session-11-13-19-13969
END:VEVENT

END:VCALENDAR
