BEGIN:VCALENDAR
VERSION:2.0
PRODID:-//ChamberMaster//Event Calendar 2.0//EN
METHOD:PUBLISH
X-PUBLISHED-TTL:P3D
REFRESH-INTERVAL:P3D
CALSCALE:GREGORIAN
BEGIN:VEVENT
DTSTART:20210517T180000Z
DTEND:20210517T190000Z
X-MICROSOFT-CDO-ALLDAYEVENT:FALSE
SUMMARY:Heat Prevention - St. George (05.17.21)
DESCRIPTION:Heat Prevention: Working in Outdoor & Indoor Heath Environments in Construction\n\n\n\nThis presentation provides information and resources on heat illness\, including how to prevent it and what to do in case of an emergency for workers and employers.  Includes information on the proposed Heat Prevention Standard: Occupational Exposure to Heat and Hot Environments.  Published by the Department of Health and Human Services\, CDC and NIOSH.\n\n\n\nPresenter: Cindy Kinslow\, RN\, ASP\, CSP\, ED.D in Safety Management\n\nSafety and Risk Management Director for Stephen Wade Auto
X-ALT-DESC;FMTTYPE=text/html:<strong>Heat Prevention: Working in Outdoor &amp\; Indoor Heath Environments in Construction</strong><br />\n<br />\nThis presentation provides information and resources on heat illness\, including how to prevent it and what to do in case of an emergency for workers and employers.&nbsp\; Includes information on the proposed Heat Prevention Standard: Occupational Exposure to Heat and Hot Environments.&nbsp\; Published by the Department of Health and Human Services\, CDC and NIOSH.<br />\n<br />\n<strong>Presenter: Cindy Kinslow\, RN\, ASP\, CSP\, ED.D in Safety Management<br />\nSafety and Risk Management Director for Stephen Wade Auto</strong>
LOCATION:AGC Southern Utah 230 North 1680 East B-1 St. George UT 84790
UID:e.3104.14266
SEQUENCE:3
DTSTAMP:20260420T145215Z
URL:https://members.agc-utah.org/events/details/heat-prevention-st-george-05-17-21-14266
END:VEVENT

END:VCALENDAR
