BEGIN:VCALENDAR
VERSION:2.0
PRODID:-//ChamberMaster//Event Calendar 2.0//EN
METHOD:PUBLISH
X-PUBLISHED-TTL:P3D
REFRESH-INTERVAL:P3D
CALSCALE:GREGORIAN
BEGIN:VEVENT
DTSTART:20190515T174500Z
DTEND:20190515T190000Z
X-MICROSOFT-CDO-ALLDAYEVENT:FALSE
SUMMARY:Hot Weather Ahead: Practice Heat Safety - St. George (05.15.19)
DESCRIPTION:Hot Weather Ahead: Practice Heat Safety\n\nLearn the signs and symptoms of heat stress and how to prevent it.\n\n\n\nPresenter:  Sarah McAllister\, Alive & Well
X-ALT-DESC;FMTTYPE=text/html:Hot Weather Ahead: Practice Heat Safety<br />\nLearn the signs and symptoms of heat stress and how to prevent it.<br />\n<br />\nPresenter:&nbsp\; Sarah McAllister\, Alive &amp\; Well
LOCATION:AGC Southern Utah 230 North 1680 East #B-1 St. George UT 84790
UID:e.3104.13899
SEQUENCE:3
DTSTAMP:20260420T120723Z
URL:https://members.agc-utah.org/events/details/hot-weather-ahead-practice-heat-safety-st-george-05-15-19-13899
END:VEVENT

END:VCALENDAR
