BEGIN:VCALENDAR
VERSION:2.0
PRODID:-//ChamberMaster//Event Calendar 2.0//EN
METHOD:PUBLISH
X-PUBLISHED-TTL:P3D
REFRESH-INTERVAL:P3D
CALSCALE:GREGORIAN
BEGIN:VEVENT
DTSTART:20210226T190000Z
DTEND:20210226T210000Z
X-MICROSOFT-CDO-ALLDAYEVENT:FALSE
SUMMARY:How to do a New Hire Orientation - St. George (02.26.21) CLASS FULL
DESCRIPTION:How can you attract and retain the best employees in the business?\n\nHow do you set clear expectations for safety performance from day 1?\n\nHow do you ensure your employees are engaged and set up to build your culture?\n\n \n\nJoin us as we answer these questions and explore innovative orientation strategies.\n\n \n\nPresenter: Chelly Heninger\, Awareness Is Key\, Safety Services \n\n*Virtual Instructor
X-ALT-DESC;FMTTYPE=text/html:<span style="font-family:tahoma\,sans-serif\;"><span style="font-size:10pt\;">How can you attract and retain the best employees in the business?</span></span><br />\n<span style="font-family:tahoma\,sans-serif\;"><span style="font-size:10pt\;">How do you set clear expectations for safety performance from day 1?</span></span><br />\n<span style="font-family:tahoma\,sans-serif\;"><span style="font-size:10pt\;">How do you ensure your employees are engaged and set up to build your culture?</span></span><br />\n&nbsp\;<br />\n<span style="font-family:tahoma\,sans-serif\;"><span style="font-size:10pt\;">Join us as we answer these questions and explore innovative orientation strategies.</span></span><br />\n&nbsp\;<br />\n<strong><span style="font-family:tahoma\,sans-serif\;"><span style="font-size:10.0pt\;">Presenter: </span></span></strong><span style="font-family:tahoma\,sans-serif\;"><span style="font-size:10.0pt\;">Chelly Heninger\, Awareness Is Key\, Safety Services&nbsp\;<br />\n*Virtual Instructor</span></span>
LOCATION:AGC Southern Utah 230 North 1680 East B-1 St. George UT 84790
UID:e.3104.14230
SEQUENCE:3
DTSTAMP:20260420T180222Z
URL:https://members.agc-utah.org/events/details/how-to-do-a-new-hire-orientation-st-george-02-26-21-class-full-14230
END:VEVENT

END:VCALENDAR
