BEGIN:VCALENDAR
VERSION:2.0
PRODID:-//ChamberMaster//Event Calendar 2.0//EN
METHOD:PUBLISH
X-PUBLISHED-TTL:P3D
REFRESH-INTERVAL:P3D
CALSCALE:GREGORIAN
BEGIN:VEVENT
DTSTART:20200420T180000Z
DTEND:20200420T190000Z
X-MICROSOFT-CDO-ALLDAYEVENT:FALSE
SUMMARY:Improve your EMod Rating - Live Webinar (04.20.20)
DESCRIPTION:Attend this session to help you better understand your EMod and how it affects how much you pay every year. Learn about the NCCI EMod worksheet and turn it into an easy to understand report so you know what is happening with your EMod. Then determine a plan for the future.\n\nIn addition\, hear about the new requirements you need to know about reportable injuries.\n\n\n\n*Bonus: Update on New Requirements for Immediately Reportable Injuries\n\n\n\nPresenter: Brett Thompson\, Senior Account Executive\, Certified Insurance
X-ALT-DESC;FMTTYPE=text/html:Attend this session to help you better understand your EMod and how it affects how much you pay every year. Learn about the NCCI EMod worksheet and turn it into an easy to understand report so you know what is happening with your EMod. Then determine a plan for the future.<br />\nIn addition\, hear about the new requirements you need to know about reportable injuries.<br />\n<br />\n*Bonus: Update on New Requirements for Immediately Reportable Injuries<br />\n<br />\nPresenter: Brett Thompson\, Senior Account Executive\, Certified Insurance
LOCATION:Zoom Webinar *Meeting login will be sent the day before course - please enter accurate email address for each individual registered.
UID:e.3104.14059
SEQUENCE:3
DTSTAMP:20260421T051529Z
URL:https://members.agc-utah.org/events/details/improve-your-emod-rating-live-webinar-04-20-20-14059
END:VEVENT

END:VCALENDAR
