BEGIN:VCALENDAR
VERSION:2.0
PRODID:-//ChamberMaster//Event Calendar 2.0//EN
METHOD:PUBLISH
X-PUBLISHED-TTL:P3D
REFRESH-INTERVAL:P3D
CALSCALE:GREGORIAN
BEGIN:VEVENT
DTSTART:20200303T150000Z
DTEND:20200303T173000Z
X-MICROSOFT-CDO-ALLDAYEVENT:FALSE
SUMMARY:Legal Aspects: Utility Damage Risk (03.03.20)
DESCRIPTION:Presentation:\n\nSuccessful strategies to reduce risk start long before a contractor begins any onsite excavation activities. Unidentified or unknown utility risks during the bidding\, contract and preconstruction phases can have major impacts on field crews performing excavation work. Furthermore\, risk often multiplies throughout a project life cycle when a contractor's leadership is unfamiliar with utility risk and expectations for daily work planning are not executed.\n\n \n\nLearning outcomes:\n\n  Define the impact of utility risk on the bidding and contract phases. \n\n  Evaluate preconstruction elements for existing and proposed utilities. \n\n  Identify the legal aspects of crews actively performing excavation activities. \n\n  Describe essential response strategies following a utility damage. \n\n  Explain the legal aspects of a utility damage.\n\n \n\nPresenters: CSDZ and Tom Olson from Olson Construction Law \n\n*Remote Live Seminar*
X-ALT-DESC;FMTTYPE=text/html:<span style="font-family:tahoma\,sans-serif\;"><span style="font-size:12.0pt\;">Presentation:</span></span><br />\n<span style="font-weight:normal\;"><span style="font-family:tahoma\,sans-serif\;"><span style="font-size:12.0pt\;">Successful strategies to reduce risk start long before a contractor begins any onsite excavation activities. Unidentified or unknown utility risks during the bidding\, contract and preconstruction phases can have major impacts on field crews performing excavation work. Furthermore\, risk often multiplies throughout a project life cycle when a contractor&rsquo\;s leadership is unfamiliar with utility risk and expectations for daily work planning are not executed.</span></span></span><br />\n&nbsp\;<br />\n<span style="font-family:tahoma\,sans-serif\;"><span style="font-size:12.0pt\;">Learning outcomes:</span></span><br />\n<span style="font-weight:normal\;"><span style="font-family:tahoma\,sans-serif\;"><span style="font-size:12.0pt\;">&bull\; Define the impact of utility risk on the bidding and contract phases. </span></span></span><br />\n<span style="font-weight:normal\;"><span style="font-family:tahoma\,sans-serif\;"><span style="font-size:12.0pt\;">&bull\; Evaluate preconstruction elements for existing and proposed utilities. </span></span></span><br />\n<span style="font-weight:normal\;"><span style="font-family:tahoma\,sans-serif\;"><span style="font-size:12.0pt\;">&bull\; Identify the legal aspects of crews actively performing excavation activities. </span></span></span><br />\n<span style="font-weight:normal\;"><span style="font-family:tahoma\,sans-serif\;"><span style="font-size:12.0pt\;">&bull\; Describe essential response strategies following a utility damage. </span></span></span><br />\n<span style="font-weight:normal\;"><span style="font-family:tahoma\,sans-serif\;"><span style="font-size:12.0pt\;">&bull\; Explain the legal aspects of a utility damage.</span></span></span><br />\n&nbsp\;<br />\n<em><span style="font-weight:normal\;"><span style="font-family:tahoma\,sans-serif\;"><span style="font-size:12.0pt\;">Presenters: CSDZ and Tom Olson from Olson Construction Law </span></span></span></em><br />\n<em><span style="font-weight:normal\;"><span style="font-family:tahoma\,sans-serif\;"><span style="font-size:12.0pt\;">*Remote Live Seminar*</span></span></span></em>
LOCATION:AGC of Utah Headquarters 2207 South 1070 West Salt Lake City UT 84119 OR AGC Southern Utah 230 North 1680 East B-1 St. George UT 84790
UID:e.3104.14031
SEQUENCE:3
DTSTAMP:20260421T051540Z
URL:https://members.agc-utah.org/events/details/legal-aspects-utility-damage-risk-03-03-20-14031
END:VEVENT

END:VCALENDAR
