BEGIN:VCALENDAR
VERSION:2.0
PRODID:-//ChamberMaster//Event Calendar 2.0//EN
METHOD:PUBLISH
X-PUBLISHED-TTL:P3D
REFRESH-INTERVAL:P3D
CALSCALE:GREGORIAN
BEGIN:VEVENT
DTSTART:20191010T174500Z
DTEND:20191010T190000Z
X-MICROSOFT-CDO-ALLDAYEVENT:FALSE
SUMMARY:Lockout Tagout Awareness Training - St. George (10.10.19)
DESCRIPTION:Discuss specific OSHA regulations and requirements that facilities and employees are obligated to follow. Training to what and when to use LOTO and products available to do so.\n\n\n\nPresenter: Chris Armstrong\, OSHA
X-ALT-DESC;FMTTYPE=text/html:<br />\nDiscuss specific OSHA regulations and requirements that facilities and employees are obligated to follow. Training to what and when to use LOTO and products available to do so.<br />\n<br />\n<strong>Presenter: Chris Armstrong\, OSHA</strong>
LOCATION:AGC Southern Utah 230 North 1680 East B-1 St. George UT 84790
UID:e.3104.13952
SEQUENCE:3
DTSTAMP:20260420T204258Z
URL:https://members.agc-utah.org/events/details/lockout-tagout-awareness-training-st-george-10-10-19-13952
END:VEVENT

END:VCALENDAR
