BEGIN:VCALENDAR
VERSION:2.0
PRODID:-//ChamberMaster//Event Calendar 2.0//EN
METHOD:PUBLISH
X-PUBLISHED-TTL:P3D
REFRESH-INTERVAL:P3D
CALSCALE:GREGORIAN
BEGIN:VEVENT
DTSTART:20200504T180000Z
DTEND:20200504T190000Z
X-MICROSOFT-CDO-ALLDAYEVENT:FALSE
SUMMARY:MASH\, ADA Ramps and COVID: The Perfect Storm (05.04.20)
DESCRIPTION:MASH\, ADA ramps and COVID have nothing in common other than they can complicate the life of a contractor - Tune to see how UDOT is dealing with each of them. MASH compliance is required by UDOT - find out what MASH is\, why it is important and how you can be compliant. ADA ramps are tricky to construct and inspect - find out what UDOT is doing to address these issues. And finally get an update on what UDOT is doing with respect to COVID19.\n\n\n\nPresenters: Glenn Blackwelder\, P.E.\, PTOE\, Operations Engineer\, UDOT Traffic and Safety and Robert Stewart\, Director of Construction\, UDOT
X-ALT-DESC;FMTTYPE=text/html:MASH\, ADA ramps and COVID have nothing in common other than they can complicate the life of a contractor - Tune to see how UDOT is dealing with each of them. MASH compliance is required by UDOT - find out what MASH is\, why it is important and how you can be compliant. ADA ramps are tricky to construct and inspect - find out what UDOT is doing to address these issues. And finally get an update on what UDOT is doing with respect to COVID19.<br />\n<br />\n<strong>Presenters: Glenn Blackwelder\, P.E.\, PTOE\, Operations Engineer\, UDOT Traffic and Safety and Robert Stewart\, Director of Construction\, UDOT</strong>
LOCATION:Live Webinar via Zoom *Meeting login will be sent the day before course - please enter accurate email address for each individual registered.
UID:e.3104.14066
SEQUENCE:3
DTSTAMP:20260421T070854Z
URL:https://members.agc-utah.org/events/details/mash-ada-ramps-and-covid-the-perfect-storm-05-04-20-14066
END:VEVENT

END:VCALENDAR
